BEGIN:VCALENDAR
VERSION:2.0
PRODID:-//hacksw/handcal//NONSGML v1.0//EN
BEGIN:VEVENT
SUMMARY:Entrainements groupe ENF a Rochefort
UID:b791c111-288c-4466-a486-43eed40b4b5c
DTSTART:20220610T164500Z
DTEND:20220610T220000Z
LOCATION:Localisation   
CATEGORIES:Sportif
STATUS:
URL;VALUE=URI:https://www.racnatation.com/evenements/2022/06/10/entrainements-groupe-enf-a-rochefort-1510416
END:VEVENT
END:VCALENDAR
